BEGIN:VCALENDAR
VERSION:2.0
PRODID:-//ZContent.net//Zap Calendar 1.0//EN
CALSCALE:GREGORIAN
METHOD:PUBLISH
BEGIN:VEVENT
DTSTAMP:20260422T220741
UID:20260602T093000@energyhub.eu/2536
DTSTART:20260602T093000
DTEND:20260602T160000
SUMMARY:Nová tarifní struktura –⁠⁠⁠⁠⁠⁠ koho zvýhodní a koho potrestá?
LOCATION: FLEKSI Budova B, Praha
DESCRIPTION:Nová tarifní struktura –⁠⁠⁠⁠⁠⁠ koho zvýhodní a koho potrestá?: FLEKSI Budova B, Praha
LAST-MODIFIED:20260422T220741
END:VEVENT
END:VCALENDAR
